BEGIN:VCALENDAR
VERSION:2.0
PRODID:-//Squarespace Inc/Squarespace 6//v6//EN
BEGIN:VEVENT
UID:5d224440e56ef70001ef93d5@squarespace.com
DTSTAMP:20190707T191802Z
DTSTART:20191024T210000Z
DTEND:20191025T010000Z
SUMMARY:Creating Farm Diversity - Soil - Pasture and Landscape 
GEO:-39.453943;173.858183
LOCATION:Shortland Farm\, Opunake
END:VEVENT
END:VCALENDAR
