BEGIN:VCALENDAR
VERSION:2.0
PRODID:-//Squarespace Inc/Squarespace 6//v6//EN
BEGIN:VEVENT
UID:5d22459b41ec3a00010f97dd@squarespace.com
DTSTAMP:20210107T221823Z
DTSTART:20210422T210000Z
DTEND:20210423T040000Z
SUMMARY:On-Farm Composting 
GEO:-37.448118;175.771275
LOCATION:Chaos Springs
END:VEVENT
END:VCALENDAR
