BEGIN:VCALENDAR
VERSION:2.0
PRODID:-//Squarespace Inc/Squarespace 6//v6//EN
BEGIN:VEVENT
UID:5e518986976c87268ceda558@squarespace.com
DTSTAMP:20210107T221947Z
DTSTART:20210722T213000Z
DTEND:20210723T020000Z
SUMMARY:Creating on Farm Fertility
END:VEVENT
END:VCALENDAR
