BEGIN:VCALENDAR
VERSION:2.0
PRODID:-//Squarespace Inc/Squarespace 6//v6//EN
BEGIN:VEVENT
UID:5e5184a1ab5cfe1448e38607@squarespace.com
DTSTAMP:20210104T205529Z
DTSTART:20210320T210000Z
DTEND:20210322T030000Z
SUMMARY:Physics in Agriculture ODPG Annual Conference
END:VEVENT
END:VCALENDAR
