BEGIN:VCALENDAR
VERSION:2.0
PRODID:-//Squarespace Inc/Squarespace 6//v6//EN
BEGIN:VEVENT
UID:5ff785ae4c6b8a3810f5d281@squarespace.com
DTSTAMP:20210107T221641Z
DTSTART:20210401T200000Z
DTEND:20210401T210000Z
SUMMARY:Soil Foodweb NZ Small Microscope Training Course - Cherryle Prew
END:VEVENT
END:VCALENDAR
